BEGIN:VCALENDAR
VERSION:2.0
PRODID:-//Visit Arcata! - ECPv6.15.20//NONSGML v1.0//EN
CALSCALE:GREGORIAN
METHOD:PUBLISH
X-WR-CALNAME:Visit Arcata!
X-ORIGINAL-URL:https://visitarcata.com
X-WR-CALDESC:Events for Visit Arcata!
REFRESH-INTERVAL;VALUE=DURATION:PT1H
X-Robots-Tag:noindex
X-PUBLISHED-TTL:PT1H
BEGIN:VTIMEZONE
TZID:America/Los_Angeles
BEGIN:DAYLIGHT
TZOFFSETFROM:-0800
TZOFFSETTO:-0700
TZNAME:PDT
DTSTART:20210314T100000
END:DAYLIGHT
BEGIN:STANDARD
TZOFFSETFROM:-0700
TZOFFSETTO:-0800
TZNAME:PST
DTSTART:20211107T090000
END:STANDARD
BEGIN:DAYLIGHT
TZOFFSETFROM:-0800
TZOFFSETTO:-0700
TZNAME:PDT
DTSTART:20220313T100000
END:DAYLIGHT
BEGIN:STANDARD
TZOFFSETFROM:-0700
TZOFFSETTO:-0800
TZNAME:PST
DTSTART:20221106T090000
END:STANDARD
BEGIN:DAYLIGHT
TZOFFSETFROM:-0800
TZOFFSETTO:-0700
TZNAME:PDT
DTSTART:20230312T100000
END:DAYLIGHT
BEGIN:STANDARD
TZOFFSETFROM:-0700
TZOFFSETTO:-0800
TZNAME:PST
DTSTART:20231105T090000
END:STANDARD
END:VTIMEZONE
BEGIN:VEVENT
DTSTART;TZID=America/Los_Angeles:20220708T090000
DTEND;TZID=America/Los_Angeles:20220708T130000
DTSTAMP:20260421T111236
CREATED:20220220T041846Z
LAST-MODIFIED:20220622T065556Z
UID:935-1657270800-1657285200@visitarcata.com
SUMMARY:Arts! Arcata July
DESCRIPTION:Arts! Arcata is downtown Arcata’s vibrant monthly night on the town. \nArts! Arcata is produced by Arcata Main Street and the downtown community. A self-guided celebration of visual and performing arts\, Arts Arcata showcases our dynamic downtown businesses and is a great opportunity to meet local artists and enjoy being downtown at a safe\, family friendly year-round community event. \nYou will find gallery openings at great spots such as Arcata Artisans\, extended shopping hours at downtown icons such as Humboldt Outfitters and Eco-Groovy Deals\, delightful libations at locations such as The Griffin\, Libation Wine Bar\, and Nori Sake Bar\, events such as live painting at The Arcata Gallery and poetry at Outer Space Arcata\, healing arts at InfuZions\, and even a center-of-the-plaza night market featuring local artists and craft vendors from 4-8pm with music and activities for all to enjoy. Head to Arcata and enjoy!
URL:https://visitarcata.com/event/arts-arcata/
LOCATION:Arcata Plaza\, 844 H Street\, Arcata\, CA\, 95521\, United States
CATEGORIES:Downtown Arcata,North Town Arcata
ATTACH;FMTTYPE=image/png:https://visitarcata.com/wp-content/uploads/2022/02/Screen-Shot-2022-02-19-at-12.17.01-PM.png
ORGANIZER;CN="Arcata Main Street":MAILTO:arcatamainstreet@gmail.com
END:VEVENT
BEGIN:VEVENT
DTSTART;TZID=America/Los_Angeles:20220408T090000
DTEND;TZID=America/Los_Angeles:20220408T130000
DTSTAMP:20260421T111236
CREATED:20220220T042856Z
LAST-MODIFIED:20220406T140843Z
UID:941-1649408400-1649422800@visitarcata.com
SUMMARY:Arts! Arcata April
DESCRIPTION:Arts! Arcata is downtown Arcata’s vibrant monthly night on the town. \nArts! Arcata is produced by Arcata Main Street and the downtown community. A self-guided celebration of visual and performing arts\, Arts Arcata showcases our dynamic downtown businesses and is a great opportunity to meet local artists and enjoy being downtown at a safe\, family friendly year-round community event. \nYou will find gallery openings at great spots such as Arcata Artisans\, extended shopping hours at downtown icons such as Humboldt Outfitters and Eco-Groovy Deals\, delightful libations at locations such as The Griffin\, Libation Wine Bar\, and Nori Sake Bar\, events such as live painting at The Arcata Gallery and poetry at Outer Space Arcata\, healing arts at InfuZions\, and even a center-of-the-plaza night market featuring local artists and craft vendors from 4-8pm with music and activities for all to enjoy. Head to Arcata and enjoy!
URL:https://visitarcata.com/event/arts-arcata-april/
LOCATION:Arcata Plaza\, 844 H Street\, Arcata\, CA\, 95521\, United States
CATEGORIES:Downtown Arcata,North Town Arcata
ATTACH;FMTTYPE=image/jpeg:https://visitarcata.com/wp-content/uploads/2022/02/artsarcata2.jpg
ORGANIZER;CN="Arcata Main Street":MAILTO:arcatamainstreet@gmail.com
END:VEVENT
END:VCALENDAR